BEGIN:VCALENDAR
VERSION:2.0
PRODID:Imitheme.com 
BEGIN:VEVENT
UID:20260420T0317472131574506
DTSTAMP;TZID=UTC:2026-04-20 03:17:47
DTSTART;TZID=America/Los_Angeles:20260420T031747
DTEND;TZID=America/Los_Angeles:20260420T031747
SUMMARY:Friday Fun Club
LOCATION:Townhill Baptist Church
DESCRIPTION:
URL:https://www.townhill.org.uk/eventer/friday-fun-club
END:VEVENT
END:VCALENDAR
