BEGIN:VCALENDAR
VERSION:2.0
PRODID:Imitheme.com 
BEGIN:VEVENT
UID:20260420T0257111478305517
DTSTAMP;TZID=UTC:2026-04-20 02:57:11
DTSTART;TZID=America/Los_Angeles:20260420T025711
DTEND;TZID=America/Los_Angeles:20260420T025711
SUMMARY:Toddlers
LOCATION:Townhill Baptist Church
DESCRIPTION:If you’re in need of something to do with your little ones on Tuesdays, join us for our toddler group at Townhill Baptist Church from 10-11:30. It’s free to attend and there’s time for play, singing, snacks, crafts, and chats!
URL:https://www.townhill.org.uk/eventer/toddlers
END:VEVENT
END:VCALENDAR
