BEGIN:VCALENDAR
VERSION:2.0
PRODID:Imitheme.com 
BEGIN:VEVENT
UID:20260420T0309131374197426
DTSTAMP;TZID=UTC:2026-04-20 03:09:13
DTSTART;TZID=America/Los_Angeles:20260420T030913
DTEND;TZID=America/Los_Angeles:20260420T030913
SUMMARY:Friday Fun Club
LOCATION:Townhill Baptist Church
DESCRIPTION:
URL:https://www.townhill.org.uk/eventer/friday-fun-club
END:VEVENT
END:VCALENDAR
